BEGIN:VCALENDAR
VERSION:2.0
PRODID:-//Identity Commons - ECPv5.2.1//NONSGML v1.0//EN
CALSCALE:GREGORIAN
METHOD:PUBLISH
X-WR-CALNAME:Identity Commons
X-ORIGINAL-URL:https://www.idcommons.org
X-WR-CALDESC:Events for Identity Commons
BEGIN:VTIMEZONE
TZID:America/Denver
BEGIN:DAYLIGHT
TZOFFSETFROM:-0700
TZOFFSETTO:-0600
TZNAME:MDT
DTSTART:20180311T090000
END:DAYLIGHT
BEGIN:STANDARD
TZOFFSETFROM:-0600
TZOFFSETTO:-0700
TZNAME:MST
DTSTART:20181104T080000
END:STANDARD
END:VTIMEZONE
BEGIN:VEVENT
DTSTART;TZID=America/Denver:20181023T080000
DTEND;TZID=America/Denver:20181025T170000
DTSTAMP:20260423T163457
CREATED:20181022T133014Z
LAST-MODIFIED:20181022T133014Z
UID:1320-1540281600-1540486800@www.idcommons.org
SUMMARY:IIW
DESCRIPTION:
URL:https://www.idcommons.org/event/iiw/
LOCATION:Computer History Museum\, 1401 N Shoreline Blvd.\, Mountain View\, CA\, 94043\, United States
END:VEVENT
END:VCALENDAR